Workbook
Name _Fill: #REF!
Name fillPlayers: Nositelji!$B$2:$E$6
Name fillPlayers_1: Nositelji!$B$2:$E$7
Name fillPlayers_10: Nositelji!$B$2:$E$18
Name fillPlayers_11: Nositelji!$B$2:$E$18
Name fillPlayers_12: Nositelji!$B$2:$E$17
Name fillPlayers_13: Nositelji!$B$2:$E$13
Name fillPlayers_14: Nositelji!$B$2:$E$17
Name fillPlayers_15: Nositelji!$B$2:$F$15
Name fillPlayers_16: Nositelji!$B$2:$F$15
Name fillPlayers_17: Nositelji!$B$2
Name fillPlayers_2: Nositelji!$B$2:$E$14
Name fillPlayers_3: Nositelji!$B$2:$E$8
Name fillPlayers_4: Nositelji!$B$2:$E$19
Name fillPlayers_5: Nositelji!$B$2:$E$19
Name fillPlayers_6: Nositelji!$B$2:$E$18
Name fillPlayers_7: Nositelji!$B$2:$E$8
Name fillPlayers_8: Nositelji!$B$2:$E$3
Name fillPlayers_9: Nositelji!$B$2:$E$18

Sheet Nositelji
A1: Nositelji | B1: Prezime igrača 1 | C1: Ime igrača 1 | D1: Prezime igrača 2 | E1: Ime igrača 1 | F1: Bodovi | G1: Ime ekipe Igrač 1/Igrač 2
A2: 1 | B2: Bečić | C2: Luna | D2: Bečić | E2: Mirna | F2: 120 | G2: =CONCATENATE(B2," / ",D2) -> Bečić / Bečić
A3: 2 | B3: Mrkić | C3: Ema | D3: Šverko | E3: Ana | F3: 80 | G3: =CONCATENATE(B3," / ",D3) -> Mrkić / Šverko
A4: 3 | B4: Dugandžić | C4: Petra | D4: Matusina | E4: Lara | F4: 48 | G4: =CONCATENATE(B4," / ",D4) -> Dugandžić / Matusina
A5: 4 | B5: Kovčo | C5: Tia | D5: Burilović | E5: Ana | F5: 24 | G5: =CONCATENATE(B5," / ",D5) -> Kovčo / Burilović
A6: 5 | B6: Brkičić | C6: Petra | D6: Piližota | E6: Bruna | F6: 0 | G6: =CONCATENATE(B6," / ",D6) -> Brkičić / Piližota
A7: 6 | B7: Kabić | C7: Laura | D7: Miloš | E7: Sanja | F7: 0 | G7: =CONCATENATE(B7," / ",D7) -> Kabić / Miloš
A8: 7 | B8: Bulović | C8: Iva | D8: Frančić | E8: Ema | F8: 0 | G8: =CONCATENATE(B8," / ",D8) -> Bulović / Frančić
A9: 8 | B9: Baranović Mandić | C9: Teuta | D9: Žura | E9: Ana | F9: 0 | G9: =CONCATENATE(B9," / ",D9) -> Baranović Mandić / Žura
A10: 9 | B10: Ćubelić | C10: Ana | D10: Ćubelić | E10: Ivana | F10: 0 | G10: =CONCATENATE(B10," / ",D10) -> Ćubelić / Ćubelić
A11: 10 | B11: Tabak | C11: Marija | D11: Lijić | E11: kate | F11: 0 | G11: =CONCATENATE(B11," / ",D11) -> Tabak / Lijić
A12: 11 | B12: Miloš | C12: Andreja | D12: Bartula | E12: Valentina | F12: 0 | G12: =CONCATENATE(B12," / ",D12) -> Miloš / Bartula
A13: 12 | B13: Varga | C13: Mirjam | D13: Hranilović | E13: Ivana | F13: 0 | G13: =CONCATENATE(B13," / ",D13) -> Varga / Hranilović
A14: 13 | B14: Terze | C14: Lucijana | D14: Rašić | E14: Lea | F14: 0 | G14: =CONCATENATE(B14," / ",D14) -> Terze / Rašić
A15: 14 | G15: =CONCATENATE(B15," / ",D15) -> /
A16: 15 | G16: =CONCATENATE(B16," / ",D16) -> /
A17: 16 | G17: =CONCATENATE(B17," / ",D17) -> /

Sheet Rezultat
A1: Match Number | B1: Round | C1: Court | D1: Team 1 | E1: vs | F1: Team 2 | G1: Result | J1: 1. Set | M1: 2. Set | P1: 3. Set | S1: : | T1: Day | U1: broj utakmice | V1: 1 TEREN | Y1: 2 TERENA | AB1: 2 TERENA 50 MINUTA
A2: 1 | B2: I | D2: =IF(Nositelji!$G$2=" / ",CONCATENATE("Seed #",Nositelji!$A$2),Nositelji!$G$2) -> Bečić / Bečić | E2: vs | F2: =IF(Nositelji!$G$17=" / ",CONCATENATE("Seed #",Nositelji!$A$17),Nositelji!$G$17) -> Seed #16 | G2: =IF(J2=L2,"",SUM(IF(J2>L2,1,0),IF(M2>O2,1,0),IF(P2<=R2,0,1))) -> 2 | H2: <-> | I2: =IF(J2=L2,"",SUM(IF(J2<L2,1,0),IF(M2<O2,1,0),IF(P2>=R2,0,1))) -> 0 | J2: 21 | K2: <-> | L2: 0 | M2: 21 | N2: <-> | O2: 0 | Q2: <->
A3: =SUM(A2,1) -> 2 | B3: I | C3: 1 | D3: =IF(Nositelji!$G$10=" / ",CONCATENATE("Seed #",Nositelji!$A$10),Nositelji!$G$10) -> Ćubelić / Ćubelić | E3: vs | F3: =IF(Nositelji!$G$9=" / ",CONCATENATE("Seed #",Nositelji!$A$9),Nositelji!$G$9) -> Baranović Mandić / Žura | G3: =IF(J3=L3,"",SUM(IF(J3>L3,1,0),IF(M3>O3,1,0),IF(P3<=R3,0,1))) -> 2 | H3: <-> | I3: =IF(J3=L3,"",SUM(IF(J3<L3,1,0),IF(M3<O3,1,0),IF(P3>=R3,0,1))) -> 0 | J3: 21 | K3: <-> | L3: 5 | M3: 21 | N3: <-> | O3: 4 | Q3: <-> | S3: 9:45 | T3: subota | V3: 9:45 | W3: subota | Y3: 13:00 | Z3: subota | AB3: 12:10
A4: =SUM(A3,1) -> 3 | B4: I | C4: 2 | D4: =IF(Nositelji!$G$6=" / ",CONCATENATE("Seed #",Nositelji!$A$6),Nositelji!$G$6) -> Brkičić / Piližota | E4: vs | F4: =IF(Nositelji!$G$13=" / ",CONCATENATE("Seed #",Nositelji!$A$13),Nositelji!$G$13) -> Varga / Hranilović | G4: =IF(J4=L4,"",SUM(IF(J4>L4,1,0),IF(M4>O4,1,0),IF(P4<=R4,0,1))) -> 0 | H4: <-> | I4: =IF(J4=L4,"",SUM(IF(J4<L4,1,0),IF(M4<O4,1,0),IF(P4>=R4,0,1))) -> 2 | J4: 21 | K4: <-> | L4: 23 | M4: 13 | N4: <-> | O4: 21 | Q4: <-> | S4: 9:45 | T4: subota | V4: 10:30 | W4: subota | Y4: 13:00 | Z4: subota | AB4: 12:10
A5: =SUM(A4,1) -> 4 | B5: I | C5: 1 | D5: =IF(Nositelji!$G$14=" / ",CONCATENATE("Seed #",Nositelji!$A$14),Nositelji!$G$14) -> Terze / Rašić | E5: vs | F5: =IF(Nositelji!$G$5=" / ",CONCATENATE("Seed #",Nositelji!$A$5),Nositelji!$G$5) -> Kovčo / Burilović | G5: =IF(J5=L5,"",SUM(IF(J5>L5,1,0),IF(M5>O5,1,0),IF(P5<=R5,0,1))) -> 0 | H5: <-> | I5: =IF(J5=L5,"",SUM(IF(J5<L5,1,0),IF(M5<O5,1,0),IF(P5>=R5,0,1))) -> 2 | J5: 13 | K5: <-> | L5: 21 | M5: 18 | N5: <-> | O5: 21 | Q5: <-> | S5: 10:30 | T5: subota | V5: 11:15 | W5: subota | Y5: 13:50 | Z5: subota | AB5: 13:00
A6: =SUM(A5,1) -> 5 | B6: I | D6: =IF(Nositelji!$G$4=" / ",CONCATENATE("Seed #",Nositelji!$A$4),Nositelji!$G$4) -> Dugandžić / Matusina | E6: vs | F6: =IF(Nositelji!$G$15=" / ",CONCATENATE("Seed #",Nositelji!$A$15),Nositelji!$G$15) -> Seed #14 | G6: =IF(J6=L6,"",SUM(IF(J6>L6,1,0),IF(M6>O6,1,0),IF(P6<=R6,0,1))) -> 2 | H6: <-> | I6: =IF(J6=L6,"",SUM(IF(J6<L6,1,0),IF(M6<O6,1,0),IF(P6>=R6,0,1))) -> 0 | J6: 21 | K6: <-> | L6: 0 | M6: 21 | N6: <-> | O6: 0 | Q6: <->
A7: =SUM(A6,1) -> 6 | B7: I | C7: 2 | D7: =IF(Nositelji!$G$12=" / ",CONCATENATE("Seed #",Nositelji!$A$12),Nositelji!$G$12) -> Miloš / Bartula | E7: vs | F7: =IF(Nositelji!$G$7=" / ",CONCATENATE("Seed #",Nositelji!$A$7),Nositelji!$G$7) -> Kabić / Miloš | G7: =IF(J7=L7,"",SUM(IF(J7>L7,1,0),IF(M7>O7,1,0),IF(P7<=R7,0,1))) -> 2 | H7: <-> | I7: =IF(J7=L7,"",SUM(IF(J7<L7,1,0),IF(M7<O7,1,0),IF(P7>=R7,0,1))) -> 0 | J7: 21 | K7: <-> | L7: 0 | M7: 21 | N7: <-> | O7: 1 | Q7: <-> | S7: 10:30 | T7: subota | V7: 12:00 | W7: subota | Y7: 13:50 | Z7: subota | AB7: 13.10
A8: =SUM(A7,1) -> 7 | B8: I | C8: 1 | D8: =IF(Nositelji!$G$8=" / ",CONCATENATE("Seed #",Nositelji!$A$8),Nositelji!$G$8) -> Bulović / Frančić | E8: vs | F8: =IF(Nositelji!$G$11=" / ",CONCATENATE("Seed #",Nositelji!$A$11),Nositelji!$G$11) -> Tabak / Lijić | G8: =IF(J8=L8,"",SUM(IF(J8>L8,1,0),IF(M8>O8,1,0),IF(P8<=R8,0,1))) -> 2 | H8: <-> | I8: =IF(J8=L8,"",SUM(IF(J8<L8,1,0),IF(M8<O8,1,0),IF(P8>=R8,0,1))) -> 0 | J8: 21 | K8: <-> | L8: 12 | M8: 21 | N8: <-> | O8: 18 | Q8: <-> | S8: 11:15 | T8: subota | V8: 12:45 | W8: subota | Y8: 14:30 | Z8: subota | AB8: 14:00
A9: =SUM(A8,1) -> 8 | B9: I | D9: =IF(Nositelji!$G$16=" / ",CONCATENATE("Seed #",Nositelji!$A$16),Nositelji!$G$16) -> Seed #15 | E9: vs | F9: =IF(Nositelji!$G$3=" / ",CONCATENATE("Seed #",Nositelji!$A$3),Nositelji!$G$3) -> Mrkić / Šverko | G9: =IF(J9=L9,"",SUM(IF(J9>L9,1,0),IF(M9>O9,1,0),IF(P9<=R9,0,1))) -> 0 | H9: <-> | I9: =IF(J9=L9,"",SUM(IF(J9<L9,1,0),IF(M9<O9,1,0),IF(P9>=R9,0,1))) -> 2 | J9: 0 | K9: <-> | L9: 21 | M9: 0 | N9: <-> | O9: 21 | Q9: <->
A10: =SUM(A9,1) -> 9 | B10: 13 | D10: =IF($G$2=$I$2,CONCATENATE("Loser Match #",$A$2),IF($G$2<$I$2,D2,$F$2)) -> Seed #16 | E10: vs | F10: =IF($G$3=$I$3,CONCATENATE("Loser Match #",$A$3),IF($G$3<$I$3,D3,$F$3)) -> Baranović Mandić / Žura | G10: =IF(J10=L10,"",SUM(IF(J10>L10,1,0),IF(M10>O10,1,0),IF(P10<=R10,0,1))) -> 0 | H10: <-> | I10: =IF(J10=L10,"",SUM(IF(J10<L10,1,0),IF(M10<O10,1,0),IF(P10>=R10,0,1))) -> 2 | J10: 0 | K10: <-> | L10: 21 | M10: 0 | N10: <-> | O10: 21 | Q10: <->
A11: =SUM(A10,1) -> 10 | B11: 13 | C11: 2 | D11: =IF($G$4=$I$4,CONCATENATE("Loser Match #",$A$4),IF($G$4<$I$4,D4,$F$4)) -> Brkičić / Piližota | E11: vs | F11: =IF($G$5=$I$5,CONCATENATE("Loser Match #",$A$5),IF($G$5<$I$5,$D$5,$F$5)) -> Terze / Rašić | G11: =IF(J11=L11,"",SUM(IF(J11>L11,1,0),IF(M11>O11,1,0),IF(P11<=R11,0,1))) -> 0 | H11: <-> | I11: =IF(J11=L11,"",SUM(IF(J11<L11,1,0),IF(M11<O11,1,0),IF(P11>=R11,0,1))) -> 2 | J11: 8 | K11: <-> | L11: 21 | M11: 16 | N11: <-> | O11: 21 | Q11: <-> | S11: 11:15 | T11: subota | V11: 13:30 | W11: subota | Y11: 14:30 | Z11: subota | AB11: 14.00
A12: =SUM(A11,1) -> 11 | B12: 13 | D12: =IF($G$6=$I$6,CONCATENATE("Loser Match #",$A$6),IF($G$6<$I$6,D6,$F$6)) -> Seed #14 | E12: vs | F12: =IF($G$7=$I$7,CONCATENATE("Loser Match #",$A$7),IF($G$7<$I$7,D7,$F$7)) -> Kabić / Miloš | G12: =IF(J12=L12,"",SUM(IF(J12>L12,1,0),IF(M12>O12,1,0),IF(P12<=R12,0,1))) -> 0 | H12: <-> | I12: =IF(J12=L12,"",SUM(IF(J12<L12,1,0),IF(M12<O12,1,0),IF(P12>=R12,0,1))) -> 2 | J12: 0 | K12: <-> | L12: 21 | M12: 0 | N12: <-> | O12: 21 | Q12: <->
A13: =SUM(A12,1) -> 12 | B13: 13 | D13: =IF($G$8=$I$8,CONCATENATE("Loser Match #",$A$8),IF($G$8<$I$8,D8,$F$8)) -> Tabak / Lijić | E13: vs | F13: =IF($G$9=$I$9,CONCATENATE("Loser Match #",$A$9),IF($G$9<$I$9,D9,$F$9)) -> Seed #15 | G13: =IF(J13=L13,"",SUM(IF(J13>L13,1,0),IF(M13>O13,1,0),IF(P13<=R13,0,1))) -> 2 | H13: <-> | I13: =IF(J13=L13,"",SUM(IF(J13<L13,1,0),IF(M13<O13,1,0),IF(P13>=R13,0,1))) -> 0 | J13: 21 | K13: <-> | L13: 0 | M13: 21 | N13: <-> | O13: 0 | Q13: <->
A14: =SUM(A13,1) -> 13 | B14: II | C14: 1 | D14: =IF($G$2=$I$2,CONCATENATE("Winner Match #",$A$2),IF($G$2>$I$2,D2,$F$2)) -> Bečić / Bečić | E14: vs | F14: =IF($G$3=$I$3,CONCATENATE("Winner Match #",$A$3),IF($G$3>$I$3,D3,$F$3)) -> Ćubelić / Ćubelić | G14: =IF(J14=L14,"",SUM(IF(J14>L14,1,0),IF(M14>O14,1,0),IF(P14<=R14,0,1))) -> 2 | H14: <-> | I14: =IF(J14=L14,"",SUM(IF(J14<L14,1,0),IF(M14<O14,1,0),IF(P14>=R14,0,1))) -> 0 | J14: 21 | K14: <-> | L14: 14 | M14: 21 | N14: <-> | O14: 16 | Q14: <-> | S14: 12:00 | T14: subota | V14: 14:15 | W14: subota | Y14: 15:15 | Z14: subota | AB14: 14:50
A15: =SUM(A14,1) -> 14 | B15: II | C15: 2 | D15: =IF($G$4=$I$4,CONCATENATE("Winner Match #",$A$4),IF($G$4>$I$4,D4,$F$4)) -> Varga / Hranilović | E15: vs | F15: =IF($G$5=$I$5,CONCATENATE("Winner Match #",$A$5),IF($G$5>$I$5,D5,$F$5)) -> Kovčo / Burilović | G15: =IF(J15=L15,"",SUM(IF(J15>L15,1,0),IF(M15>O15,1,0),IF(P15<=R15,0,1))) -> 0 | H15: <-> | I15: =IF(J15=L15,"",SUM(IF(J15<L15,1,0),IF(M15<O15,1,0),IF(P15>=R15,0,1))) -> 2 | J15: 7 | K15: <-> | L15: 21 | M15: 14 | N15: <-> | O15: 21 | Q15: <-> | S15: 12:00 | T15: subota | V15: 15:00 | W15: subota | Y15: 15:15 | Z15: subota | AB15: 14:50
A16: =SUM(A15,1) -> 15 | B16: II | C16: 1 | D16: =IF($G$6=$I$6,CONCATENATE("Winner Match #",$A$6),IF($G$6>$I$6,D6,$F$6)) -> Dugandžić / Matusina | E16: vs | F16: =IF($G$7=$I$7,CONCATENATE("Winner Match #",$A$7),IF($G$7>$I$7,D7,$F$7)) -> Miloš / Bartula | G16: =IF(J16=L16,"",SUM(IF(J16>L16,1,0),IF(M16>O16,1,0),IF(P16<=R16,0,1))) -> 2 | H16: <-> | I16: =IF(J16=L16,"",SUM(IF(J16<L16,1,0),IF(M16<O16,1,0),IF(P16>=R16,0,1))) -> 0 | J16: 21 | K16: <-> | L16: 6 | M16: 21 | N16: <-> | O16: 2 | Q16: <-> | S16: 12:45 | T16: subota | V16: 15:45 | W16: subota | Y16: 16:00 | Z16: subota | AB16: 15:40
A17: =SUM(A16,1) -> 16 | B17: II | C17: 1 | D17: =IF($G$8=$I$8,CONCATENATE("Winner Match #",$A$8),IF($G$8>$I$8,D8,$F$8)) -> Bulović / Frančić | E17: vs | F17: =IF($G$9=$I$9,CONCATENATE("Winner Match #",$A$9),IF($G$9>$I$9,D9,$F$9)) -> Mrkić / Šverko | G17: =IF(J17=L17,"",SUM(IF(J17>L17,1,0),IF(M17>O17,1,0),IF(P17<=R17,0,1))) -> 0 | H17: <-> | I17: =IF(J17=L17,"",SUM(IF(J17<L17,1,0),IF(M17<O17,1,0),IF(P17>=R17,0,1))) -> 2 | J17: 21 | K17: <-> | L17: 23 | M17: 17 | N17: <-> | O17: 21 | Q17: <-> | S17: 13:30 | T17: subota | V17: 16:30 | W17: subota | Y17: 16:00 | Z17: subota | AB17: 15:40
A18: =SUM(A17,1) -> 17 | B18: 9 | C18: 1 | D18: =IF($G$13=$I$13,CONCATENATE("Winner Match #",$A$13),IF($G$13>$I$13,$D$13,$F$13)) -> Tabak / Lijić | E18: vs | F18: =IF($G$14=$I$14,CONCATENATE("Loser Match #",$A$14),IF($G$14<$I$14,D14,$F$14)) -> Ćubelić / Ćubelić | G18: =IF(J18=L18,"",SUM(IF(J18>L18,1,0),IF(M18>O18,1,0),IF(P18<=R18,0,1))) -> 2 | H18: <-> | I18: =IF(J18=L18,"",SUM(IF(J18<L18,1,0),IF(M18<O18,1,0),IF(P18>=R18,0,1))) -> 1 | J18: 19 | K18: <-> | L18: 21 | M18: 21 | N18: <-> | O18: 15 | P18: 18 | Q18: <-> | R18: 16 | S18: 14:15 | T18: subota | V18: 17:15 | W18: subota | Y18: 16:45 | Z18: subota | AB18: 16:30
A19: =SUM(A18,1) -> 18 | B19: 9 | C19: 1 | D19: =IF($G$12=$I$12,CONCATENATE("Winner Match #",$A$12),IF($G$12>$I$12,$D$12,$F$12)) -> Kabić / Miloš | E19: vs | F19: =IF($G$15=$I$15,CONCATENATE("Loser Match #",$A$15),IF($G$15<$I$15,D15,$F$15)) -> Varga / Hranilović | G19: =IF(J19=L19,"",SUM(IF(J19>L19,1,0),IF(M19>O19,1,0),IF(P19<=R19,0,1))) -> 0 | H19: <-> | I19: =IF(J19=L19,"",SUM(IF(J19<L19,1,0),IF(M19<O19,1,0),IF(P19>=R19,0,1))) -> 2 | J19: 0 | K19: <-> | L19: 21 | M19: 0 | N19: <-> | O19: 21 | Q19: <-> | T19: subota | V19: 18:00 | W19: subota | Y19: 16:45 | Z19: subota | AB19: 16:30
A20: =SUM(A19,1) -> 19 | B20: 9 | C20: 1 | D20: =IF($G$11=$I$11,CONCATENATE("Winner Match #",$A$11),IF($G$11>$I$11,$D$11,$F$11)) -> Terze / Rašić | E20: vs | F20: =IF($G$16=$I$16,CONCATENATE("Loser Match #",$A$16),IF($G$16<$I$16,D16,$F$16)) -> Miloš / Bartula | G20: =IF(J20=L20,"",SUM(IF(J20>L20,1,0),IF(M20>O20,1,0),IF(P20<=R20,0,1))) -> 2 | H20: <-> | I20: =IF(J20=L20,"",SUM(IF(J20<L20,1,0),IF(M20<O20,1,0),IF(P20>=R20,0,1))) -> 0 | J20: 21 | K20: <-> | L20: 0 | M20: 21 | N20: <-> | O20: 0 | Q20: <-> | T20: subota | V20: 18:45 | W20: subota | Y20: 17:30 | Z20: subota | AB20: 17:20
A21: =SUM(A20,1) -> 20 | B21: 9 | C21: 1 | D21: =IF($G$10=$I$10,CONCATENATE("Winner Match #",$A$10),IF($G$10>$I$10,$D$10,$F$10)) -> Baranović Mandić / Žura | E21: vs | F21: =IF($G$17=$I$17,CONCATENATE("Loser Match #",$A$17),IF($G$17<$I$17,D17,$F$17)) -> Bulović / Frančić | G21: =IF(J21=L21,"",SUM(IF(J21>L21,1,0),IF(M21>O21,1,0),IF(P21<=R21,0,1))) -> 0 | H21: <-> | I21: =IF(J21=L21,"",SUM(IF(J21<L21,1,0),IF(M21<O21,1,0),IF(P21>=R21,0,1))) -> 2 | J21: 4 | K21: <-> | L21: 21 | M21: 4 | N21: <-> | O21: 21 | Q21: <-> | S21: 15:30 | T21: subota | V21: 19:30 | W21: subota | Y21: 17:30 | Z21: subota | AB21: 17:20
A22: =SUM(A21,1) -> 21 | B22: III | C22: 1 | D22: =IF($G$14=$I$14,CONCATENATE("Winner Match #",$A$14),IF($G$14>$I$14,$D$14,$F$14)) -> Bečić / Bečić | E22: vs | F22: =IF($G$15=$I$15,CONCATENATE("Winner Match #",$A$15),IF($G$15>$I$15,$D$15,$F$15)) -> Kovčo / Burilović | G22: =IF(J22=L22,"",SUM(IF(J22>L22,1,0),IF(M22>O22,1,0),IF(P22<=R22,0,1))) -> 2 | H22: <-> | I22: =IF(J22=L22,"",SUM(IF(J22<L22,1,0),IF(M22<O22,1,0),IF(P22>=R22,0,1))) -> 0 | J22: 21 | K22: <-> | L22: 16 | M22: 21 | N22: <-> | O22: 7 | Q22: <-> | S22: 16:30 | T22: subota | V22: 9:00 | W22: nedjelja | Y22: 18:15 | Z22: subota | AB22: 18:10
A23: =SUM(A22,1) -> 22 | B23: III | C23: 1 | D23: =IF($G$16=$I$16,CONCATENATE("Winner Match #",$A$16),IF($G$16>$I$16,$D$16,$F$16)) -> Dugandžić / Matusina | E23: vs | F23: =IF($G$17=$I$17,CONCATENATE("Winner Match #",$A$17),IF($G$17>$I$17,$D$17,$F$17)) -> Mrkić / Šverko | G23: =IF(J23=L23,"",SUM(IF(J23>L23,1,0),IF(M23>O23,1,0),IF(P23<=R23,0,1))) -> 1 | H23: <-> | I23: =IF(J23=L23,"",SUM(IF(J23<L23,1,0),IF(M23<O23,1,0),IF(P23>=R23,0,1))) -> 2 | J23: 13 | K23: <-> | L23: 21 | M23: 21 | N23: <-> | O23: 16 | P23: 7 | Q23: <-> | R23: 15 | S23: 17:15 | T23: subota | V23: 9:45 | W23: nedjelja | Y23: 18:15 | Z23: subota | AB23: 18:10
A24: =SUM(A23,1) -> 23 | B24: 7 | C24: 1 | D24: =IF($G$18=$I$18,CONCATENATE("Winner Match #",$A$18),IF($G$18>$I$18,$D$18,$F$18)) -> Tabak / Lijić | E24: vs | F24: =IF($G$19=$I$19,CONCATENATE("Winner Match #",$A$19),IF($G$19>$I$19,$D$19,$F$19)) -> Varga / Hranilović | G24: =IF(J24=L24,"",SUM(IF(J24>L24,1,0),IF(M24>O24,1,0),IF(P24<=R24,0,1))) -> 2 | H24: <-> | I24: =IF(J24=L24,"",SUM(IF(J24<L24,1,0),IF(M24<O24,1,0),IF(P24>=R24,0,1))) -> 1 | J24: 15 | K24: <-> | L24: 21 | M24: 21 | N24: <-> | O24: 16 | P24: 15 | Q24: <-> | R24: 13 | S24: 18:00 | T24: subota | V24: 10:30 | W24: nedjelja | Y24: 19:00 | Z24: nedjelja | AB24: 19:00
A25: =SUM(A24,1) -> 24 | B25: 7 | C25: 1 | D25: =IF($G$20=$I$20,CONCATENATE("Winner Match #",$A$20),IF($G$20>$I$20,$D$20,$F$20)) -> Terze / Rašić | E25: vs | F25: =IF($G$21=$I$21,CONCATENATE("Winner Match #",$A$21),IF($G$21>$I$21,$D$21,$F$21)) -> Bulović / Frančić | G25: =IF(J25=L25,"",SUM(IF(J25>L25,1,0),IF(M25>O25,1,0),IF(P25<=R25,0,1))) -> 2 | H25: <-> | I25: =IF(J25=L25,"",SUM(IF(J25<L25,1,0),IF(M25<O25,1,0),IF(P25>=R25,0,1))) -> 0 | J25: 21 | K25: <-> | L25: 17 | M25: 21 | N25: <-> | O25: 15 | Q25: <-> | S25: 18:45 | T25: subota | V25: 11:15 | W25: nedjelja | Y25: 19:00 | Z25: nedjelja | AB25: 19:00
A26: =SUM(A25,1) -> 25 | B26: 5 | C26: 1 | D26: =IF($G$24=$I$24,CONCATENATE("Winner Match #",$A$24),IF($G$24>$I$24,$D$24,$F$24)) -> Tabak / Lijić | E26: vs | F26: =IF($G$23=$I$23,CONCATENATE("Loser Match #",$A$23),IF($G$23<$I$23,$D$23,$F$23)) -> Dugandžić / Matusina | G26: =IF(J26=L26,"",SUM(IF(J26>L26,1,0),IF(M26>O26,1,0),IF(P26<=R26,0,1))) -> 0 | H26: <-> | I26: =IF(J26=L26,"",SUM(IF(J26<L26,1,0),IF(M26<O26,1,0),IF(P26>=R26,0,1))) -> 2 | J26: 18 | K26: <-> | L26: 21 | M26: 19 | N26: <-> | O26: 21 | Q26: <-> | S26: 9:00 | T26: nedjelja | V26: 12:00 | W26: nedjelja | Y26: 9:00 | Z26: nedjelja | AB26: 9:00
A27: =SUM(A26,1) -> 26 | B27: 5 | C27: 1 | D27: =IF($G$25=$I$25,CONCATENATE("Winner Match #",$A$25),IF($G$25>$I$25,$D$25,$F$25)) -> Terze / Rašić | E27: vs | F27: =IF($G$22=$I$22,CONCATENATE("Loser Match #",$A$22),IF($G$22<$I$22,$D$22,$F$22)) -> Kovčo / Burilović | G27: =IF(J27=L27,"",SUM(IF(J27>L27,1,0),IF(M27>O27,1,0),IF(P27<=R27,0,1))) -> 2 | H27: <-> | I27: =IF(J27=L27,"",SUM(IF(J27<L27,1,0),IF(M27<O27,1,0),IF(P27>=R27,0,1))) -> 0 | J27: 21 | K27: <-> | L27: 18 | M27: 21 | N27: <-> | O27: 15 | Q27: <-> | S27: 9:00 | T27: nedjelja | V27: 12:45 | W27: nedjelja | Y27: 9:00 | Z27: nedjelja | AB27: 9:00
A28: =SUM(A27,1) -> 27 | B28: SF | C28: 1 | D28: =IF($G$22=$I$22,CONCATENATE("Winner Match #",$A$22),IF($G$22>$I$22,$D$22,$F$22)) -> Bečić / Bečić | E28: vs | F28: =IF($G$26=$I$26,CONCATENATE("Winner Match #",$A$26),IF($G$26>$I$26,$D$26,$F$26)) -> Dugandžić / Matusina | G28: =IF(J28=L28,"",SUM(IF(J28>L28,1,0),IF(M28>O28,1,0),IF(P28<=R28,0,1))) -> 2 | H28: <-> | I28: =IF(J28=L28,"",SUM(IF(J28<L28,1,0),IF(M28<O28,1,0),IF(P28>=R28,0,1))) -> 0 | J28: 21 | K28: <-> | L28: 12 | M28: 21 | N28: <-> | O28: 14 | Q28: <-> | S28: 10:00 | T28: nedjelja | V28: 13:30 | W28: nedjelja | Y28: 10:00 | Z28: nedjelja | AB28: 10:00
A29: =SUM(A28,1) -> 28 | B29: SF | C29: 1 | D29: =IF($G$23=$I$23,CONCATENATE("Winner Match #",$A$23),IF($G$23>$I$23,$D$23,$F$23)) -> Mrkić / Šverko | E29: vs | F29: =IF($G$27=$I$27,CONCATENATE("Winner Match #",$A$27),IF($G$27>$I$27,$D$27,$F$27)) -> Terze / Rašić | G29: =IF(J29=L29,"",SUM(IF(J29>L29,1,0),IF(M29>O29,1,0),IF(P29<=R29,0,1))) -> 2 | H29: <-> | I29: =IF(J29=L29,"",SUM(IF(J29<L29,1,0),IF(M29<O29,1,0),IF(P29>=R29,0,1))) -> 0 | J29: 22 | K29: <-> | L29: 20 | M29: 21 | N29: <-> | O29: 10 | Q29: <-> | S29: 11:00 | T29: nedjelja | V29: 14:15 | W29: nedjelja | Y29: 11:00 | Z29: nedjelja | AB29: 11:00
A30: =SUM(A29,1) -> 29 | B30: 3/4 | C30: 1 | D30: =IF($G$28=$I$28,CONCATENATE("Loser Match #",$A$28),IF($G$28<$I$28,$D$28,$F$28)) -> Dugandžić / Matusina | E30: vs | F30: =IF($G$29=$I$29,CONCATENATE("Loser Match #",$A$29),IF($G$29<$I$29,$D$29,$F$29)) -> Terze / Rašić | G30: =IF(J30=L30,"",SUM(IF(J30>L30,1,0),IF(M30>O30,1,0),IF(P30<=R30,0,1))) -> 0 | H30: <-> | I30: =IF(J30=L30,"",SUM(IF(J30<L30,1,0),IF(M30<O30,1,0),IF(P30>=R30,0,1))) -> 2 | J30: 24 | K30: <-> | L30: 26 | M30: 12 | N30: <-> | O30: 21 | Q30: <-> | S30: 12:00 | T30: nedjelja | V30: 15:00 | W30: nedjelja | Y30: 12:00 | Z30: nedjelja | AB30: 12:00
A31: =SUM(A30,1) -> 30 | B31: F | C31: 1 | D31: =IF($G$28=$I$28,CONCATENATE("Winner Match #",$A$28),IF($G$28>$I$28,$D$28,$F$28)) -> Bečić / Bečić | E31: vs | F31: =IF($G$29=$I$29,CONCATENATE("Winner Match #",$A$29),IF($G$29>$I$29,$D$29,$F$29)) -> Mrkić / Šverko | G31: =IF(J31=L31,"",SUM(IF(J31>L31,1,0),IF(M31>O31,1,0),IF(P31<=R31,0,1))) -> 2 | H31: <-> | I31: =IF(J31=L31,"",SUM(IF(J31<L31,1,0),IF(M31<O31,1,0),IF(P31>=R31,0,1))) -> 0 | J31: 21 | K31: <-> | L31: 12 | M31: 21 | N31: <-> | O31: 14 | Q31: <-> | S31: 13:00 | T31: nedjelja | V31: 15:45 | W31: nedjelja | Y31: 13:00 | Z31: nedjelja | AB31: 13:00
G32: =IF(J32=L32,"",SUM(IF(J32>L32,1,0),IF(M32>O32,1,0),IF(P32<=R32,0,1))) | I32: =IF(J32=L32,"",SUM(IF(J32<L32,1,0),IF(M32<O32,1,0),IF(P32<=R32,0,1)))

Sheet Tablica
A1: =CONCATENATE(Rezultat!$D$2," ") -> Bečić / Bečić
A3: =CONCATENATE("",Rezultat!$A$2,"") -> 1 | B3: =CONCATENATE(Rezultat!$D$14," ") -> Bečić / Bečić
A4: =CONCATENATE("(",Rezultat!$G$2," : ",Rezultat!$I$2,")") -> (2 : 0)
A5: =CONCATENATE(Rezultat!$F$2," ") -> Seed #16
B6: =CONCATENATE("",Rezultat!$A$14,"") -> 13 | C6: =CONCATENATE(Rezultat!$D$22," ") -> Bečić / Bečić
A7: =CONCATENATE(Rezultat!$D$3," ") -> Ćubelić / Ćubelić | B7: =CONCATENATE("(",Rezultat!$G$14," : ",Rezultat!$I$14,")") -> (2 : 0)
G8: =CONCATENATE(Rezultat!$F$26," ") -> Dugandžić / Matusina | J8: =CONCATENATE(Rezultat!$F$13," ") -> Seed #15
A9: =CONCATENATE("",Rezultat!$A$3,"") -> 2 | B9: =CONCATENATE(Rezultat!$F$14," ") -> Ćubelić / Ćubelić | E9: Semi finals
A10: =CONCATENATE("(",Rezultat!$G$3," : ",Rezultat!$I$3,")") -> (2 : 0) | I10: =CONCATENATE(Rezultat!$D$18," ") -> Tabak / Lijić | J10: =CONCATENATE("",Rezultat!$A$13,"") -> 12
A11: =CONCATENATE(Rezultat!$F$3," ") -> Baranović Mandić / Žura | J11: =CONCATENATE("(",Rezultat!$I$13," : ",Rezultat!$G$13,")") -> (0 : 2)
C12: =CONCATENATE("",Rezultat!$A$22,"") -> 21 | D12: =CONCATENATE(Rezultat!$D$28," ") -> Bečić / Bečić | E12: =CONCATENATE("",Rezultat!$A$28,"") -> 27 | F12: =CONCATENATE(Rezultat!$F$28," ") -> Dugandžić / Matusina | G12: =CONCATENATE("",Rezultat!$A$26,"") -> 25 | H12: =CONCATENATE(Rezultat!$D$24," ") -> Tabak / Lijić | I12: =CONCATENATE("",Rezultat!$A$18,"") -> 17 | J12: =CONCATENATE(Rezultat!$D$13," ") -> Tabak / Lijić
A13: =CONCATENATE(Rezultat!$D$4," ") -> Brkičić / Piližota | C13: =CONCATENATE("(",Rezultat!$G$22," : ",Rezultat!$I$22,")") -> (2 : 0) | E13: =CONCATENATE("(",Rezultat!$G$28," : ",Rezultat!$I$28,")") -> (2 : 0) | G13: =CONCATENATE("(",Rezultat!$I$26," : ",Rezultat!$G$26,")") -> (2 : 0) | I13: =CONCATENATE("(",Rezultat!$G$18," : ",Rezultat!$I$18,")") -> (2 : 1)
I14: =CONCATENATE(Rezultat!$F$18," ") -> Ćubelić / Ćubelić
A15: =CONCATENATE("",Rezultat!$A$4,"") -> 3 | B15: =CONCATENATE(Rezultat!$D$15," ") -> Varga / Hranilović
A16: =CONCATENATE("(",Rezultat!$G$4," : ",Rezultat!$I$4,")") -> (0 : 2) | G16: =CONCATENATE(Rezultat!$D$26," ") -> Tabak / Lijić | H16: =CONCATENATE("",Rezultat!$A$24,"") -> 23 | J16: =CONCATENATE(Rezultat!$F$12," ") -> Kabić / Miloš
A17: =CONCATENATE(Rezultat!$F$4," ") -> Varga / Hranilović | H17: =CONCATENATE("(",Rezultat!$G$24," : ",Rezultat!$I$24,")") -> (2 : 1)
B18: =CONCATENATE("",Rezultat!$A$15,"") -> 14 | C18: =CONCATENATE(Rezultat!$F$22," ") -> Kovčo / Burilović | I18: =CONCATENATE(Rezultat!$D$19," ") -> Kabić / Miloš | J18: =CONCATENATE("",Rezultat!$A$12,"") -> 11
A19: =CONCATENATE(Rezultat!$D$5," ") -> Terze / Rašić | B19: =CONCATENATE("(",Rezultat!$G$15," : ",Rezultat!$I$15,")") -> (0 : 2) | J19: =CONCATENATE("(",Rezultat!$I$12," : ",Rezultat!$G$12,")") -> (2 : 0)
D20: =CONCATENATE(Rezultat!$D$31," ") -> Bečić / Bečić | F20: =CONCATENATE(Rezultat!$D$30," ") -> Dugandžić / Matusina | H20: =CONCATENATE(Rezultat!$F$24," ") -> Varga / Hranilović | I20: =CONCATENATE("",Rezultat!$A$19,"") -> 18 | J20: =CONCATENATE(Rezultat!$D$12," ") -> Seed #14
A21: =CONCATENATE("",Rezultat!$A$5,"") -> 4 | B21: =CONCATENATE(Rezultat!$F$15," ") -> Kovčo / Burilović | I21: =CONCATENATE("(",Rezultat!$G$19," : ",Rezultat!$I$19,")") -> (0 : 2)
A22: =CONCATENATE("(",Rezultat!$G$5," : ",Rezultat!$I$5,")") -> (0 : 2) | D22: Final | F22: 3./4. Rank | I22: =CONCATENATE(Rezultat!$F$19," ") -> Varga / Hranilović
A23: =CONCATENATE(Rezultat!$F$5," ") -> Kovčo / Burilović
D24: =CONCATENATE("",Rezultat!$A$31,"") -> 30 | F24: =CONCATENATE("",Rezultat!$A$30,"") -> 29
A25: =CONCATENATE(Rezultat!$D$6," ") -> Dugandžić / Matusina
D26: =CONCATENATE("(",Rezultat!$G$31," : ",Rezultat!$I$31,")") -> (2 : 0) | F26: =CONCATENATE("(",Rezultat!$G$30," : ",Rezultat!$I$30,")") -> (0 : 2)
A27: =CONCATENATE("",Rezultat!$A$6,"") -> 5 | B27: =CONCATENATE(Rezultat!$D$16," ") -> Dugandžić / Matusina
A28: =CONCATENATE("(",Rezultat!$G$6," : ",Rezultat!$I$6,")") -> (2 : 0) | D28: =CONCATENATE(Rezultat!$F$31," ") -> Mrkić / Šverko | F28: =CONCATENATE(Rezultat!$F$30," ") -> Terze / Rašić
A29: =CONCATENATE(Rezultat!$F$6," ") -> Seed #14
B30: =CONCATENATE("",Rezultat!$A$16,"") -> 15 | C30: =CONCATENATE(Rezultat!$D$23," ") -> Dugandžić / Matusina
A31: =CONCATENATE(Rezultat!$D$7," ") -> Miloš / Bartula | B31: =CONCATENATE("(",Rezultat!$G$16," : ",Rezultat!$I$16,")") -> (2 : 0)
G32: =CONCATENATE(Rezultat!$F$27," ") -> Kovčo / Burilović | J32: =CONCATENATE(Rezultat!$F$11," ") -> Terze / Rašić
A33: =CONCATENATE("",Rezultat!$A$7,"") -> 6 | B33: =CONCATENATE(Rezultat!$F$16," ") -> Miloš / Bartula
A34: =CONCATENATE("(",Rezultat!$G$7," : ",Rezultat!$I$7,")") -> (2 : 0) | I34: =CONCATENATE(Rezultat!$D$20," ") -> Terze / Rašić | J34: =CONCATENATE("",Rezultat!$A$11,"") -> 10
A35: =CONCATENATE(Rezultat!$F$7," ") -> Kabić / Miloš | J35: =CONCATENATE("(",Rezultat!$I$11," : ",Rezultat!$G$11,")") -> (2 : 0)
C36: =CONCATENATE("",Rezultat!$A$23,"") -> 22 | D36: =CONCATENATE(Rezultat!$D$29," ") -> Mrkić / Šverko | E36: =CONCATENATE("",Rezultat!$A$29,"") -> 28 | F36: =CONCATENATE(Rezultat!$F$29," ") -> Terze / Rašić | G36: =CONCATENATE("",Rezultat!$A$27,"") -> 26 | I36: =CONCATENATE("",Rezultat!$A$20,"") -> 19 | J36: =CONCATENATE(Rezultat!$D$11," ") -> Brkičić / Piližota
A37: =CONCATENATE(Rezultat!$D$8," ") -> Bulović / Frančić | C37: =CONCATENATE("(",Rezultat!$G$23," : ",Rezultat!$I$23,")") -> (1 : 2) | E37: =CONCATENATE("(",Rezultat!$G$29," : ",Rezultat!$I$29,")") -> (2 : 0) | G37: =CONCATENATE("(",Rezultat!$I$27," : ",Rezultat!$G$27,")") -> (0 : 2) | H37: =CONCATENATE(Rezultat!$D$25," ") -> Terze / Rašić | I37: =CONCATENATE("(",Rezultat!$G$20," : ",Rezultat!$I$20,")") -> (2 : 0)
I38: =CONCATENATE(Rezultat!$F$20," ") -> Miloš / Bartula
A39: =CONCATENATE("",Rezultat!$A$8,"") -> 7 | B39: =CONCATENATE(Rezultat!$D$17," ") -> Bulović / Frančić
A40: =CONCATENATE("(",Rezultat!$G$8," : ",Rezultat!$I$8,")") -> (2 : 0) | G40: =CONCATENATE(Rezultat!$D$27," ") -> Terze / Rašić | H40: =CONCATENATE("",Rezultat!$A$25,"") -> 24 | J40: =CONCATENATE(Rezultat!$F$10," ") -> Baranović Mandić / Žura
A41: =CONCATENATE(Rezultat!$F$8," ") -> Tabak / Lijić | H41: =CONCATENATE("(",Rezultat!$G$25," : ",Rezultat!$I$25,")") -> (2 : 0)
...

Sheet Poredak
A1: Mjesto | B1: Ekipa
A2: 1 | B2: =IF(Rezultat!$G$31=Rezultat!$I$31,"1. Rank",IF(Rezultat!$G$31>Rezultat!$I$31,Rezultat!$D$31,Rezultat!$F$31)) -> Bečić / Bečić
A3: =SUM(A2,1) -> 2 | B3: =IF(Rezultat!$G$31=Rezultat!$I$31,"2. Rank",IF(Rezultat!$G$31<Rezultat!$I$31,Rezultat!$D$31,Rezultat!$F$31)) -> Mrkić / Šverko
A4: =SUM(A3,1) -> 3 | B4: =IF(Rezultat!$G$30=Rezultat!$I$30,"3. Rank",IF(Rezultat!$G$30>Rezultat!$I$30,Rezultat!$D$30,Rezultat!$F$30)) -> Terze / Rašić
A5: =SUM(A4,1) -> 4 | B5: =IF(Rezultat!$G$30=Rezultat!$I$30,"4. Rank",IF(Rezultat!$G$30<Rezultat!$I$30,Rezultat!$D$30,Rezultat!$F$30)) -> Dugandžić / Matusina
A6: =SUM(A5,1) -> 5 | B6: =IF(Rezultat!$G$26=Rezultat!$I$26,"5. Rank",IF(Rezultat!$G$26<Rezultat!$I$26,Rezultat!$D$26,Rezultat!$F$26)) -> Tabak / Lijić
A7: 5 | B7: =IF(Rezultat!$G$27=Rezultat!$I$27,"5. Rank",IF(Rezultat!$G$27<Rezultat!$I$27,Rezultat!$D$27,Rezultat!$F$27)) -> Kovčo / Burilović
A8: 7 | B8: =IF(Rezultat!$G$24=Rezultat!$I$24,"7. Rank",IF(Rezultat!$G$24<Rezultat!$I$24,Rezultat!$D$24,Rezultat!$F$24)) -> Varga / Hranilović
A9: 7 | B9: =IF(Rezultat!$G$25=Rezultat!$I$25,"7. Rank",IF(Rezultat!$G$25<Rezultat!$I$25,Rezultat!$D$25,Rezultat!$F$25)) -> Bulović / Frančić
A10: 9 | B10: =IF(Rezultat!$G$18=Rezultat!$I$18,"9. Rank",IF(Rezultat!$G$18<Rezultat!$I$18,Rezultat!$D$18,Rezultat!$F$18)) -> Ćubelić / Ćubelić
A11: 9 | B11: =IF(Rezultat!$G$19=Rezultat!$I$19,"9. Rank",IF(Rezultat!$G$19<Rezultat!$I$19,Rezultat!$D$19,Rezultat!$F$19)) -> Kabić / Miloš
A12: 9 | B12: =IF(Rezultat!$G$20=Rezultat!$I$20,"9. Rank",IF(Rezultat!$G$20<Rezultat!$I$20,Rezultat!$D$20,Rezultat!$F$20)) -> Miloš / Bartula
A13: 9 | B13: =IF(Rezultat!$G$21=Rezultat!$I$21,"9. Rank",IF(Rezultat!$G$21<Rezultat!$I$21,Rezultat!$D$21,Rezultat!$F$21)) -> Baranović Mandić / Žura
A14: 13 | B14: =IF(Rezultat!$G$10=Rezultat!$I$10,"13. Rank",IF(Rezultat!$G$10<Rezultat!$I$10,Rezultat!$D$10,Rezultat!$F$10)) -> Seed #16
A15: 13 | B15: =IF(Rezultat!$G$11=Rezultat!$I$11,"13. Rank",IF(Rezultat!$G$11<Rezultat!$I$11,Rezultat!$D$11,Rezultat!$F$11)) -> Brkičić / Piližota
A16: 13 | B16: =IF(Rezultat!$G$12=Rezultat!$I$12,"13. Rank",IF(Rezultat!$G$12<Rezultat!$I$12,Rezultat!$D$12,Rezultat!$F$12)) -> Seed #14
A17: 13 | B17: =IF(Rezultat!$G$13=Rezultat!$I$13,"13. Rank",IF(Rezultat!$G$13<Rezultat!$I$13,Rezultat!$D$13,Rezultat!$F$13)) -> Seed #15
